BEGIN:VCALENDAR
PRODID:-//Mozilla.org/NONSGML Mozilla Calendar V1.1//EN
VERSION:2.0
CALSCALE:GREGORIAN
BEGIN:VEVENT
DTSTAMP:20260424T100604Z
DTSTART:20260424T080000
DTEND:20260424T083000
SUMMARY:2024 FORD TRANSIT CHASSI 
LOCATION:http://www.copart.com.br:80
DESCRIPTION:Please join us for the following auction:\n\n2024 FORD TRANSI
 T CHASSI \nwww.copart.com.br\n\n\n\nContact us at member.services@copart
 .com or (972) 391-5400 if you have any questions leading up to the aucti
 on.\n\n\n-Your Copart Team
UID:20260424T100604Z-uidGen@lvpbaw213.corp.copart.com
END:VEVENT
END:VCALENDAR
